BEGIN:VCALENDAR
VERSION:2.0
PRODID:-//Serendipity - ECPv6.15.20//NONSGML v1.0//EN
CALSCALE:GREGORIAN
METHOD:PUBLISH
X-ORIGINAL-URL:https://serendipitymeadows.com
X-WR-CALDESC:Events for Serendipity
REFRESH-INTERVAL;VALUE=DURATION:PT1H
X-Robots-Tag:noindex
X-PUBLISHED-TTL:PT1H
BEGIN:VTIMEZONE
TZID:UTC
BEGIN:STANDARD
TZOFFSETFROM:+0000
TZOFFSETTO:+0000
TZNAME:UTC
DTSTART:20240101T000000
END:STANDARD
END:VTIMEZONE
BEGIN:VEVENT
DTSTART;TZID=UTC:20251030T150000
DTEND;TZID=UTC:20251030T200000
DTSTAMP:20260425T030745
CREATED:20251015T030540Z
LAST-MODIFIED:20251015T030824Z
UID:4730-1761836400-1761854400@serendipitymeadows.com
SUMMARY:Masquerade Ball at Dery Mansion
DESCRIPTION:Debbie Pietruszka will be part of the celebration of the Halloween spirit on October 30th at the Masquerade Ball in the Dery Mansion in Catasaqua\, PA where she will be doing Past Life Readings and sharing some of her experiences with entity removal on haunted properties for the past ten years. This event is a networking fundraiser for Northeast Pennsylvania Women in Film & Television . There will be amazing beverages and sweet treats for refreshments\, a Fortune Tellers Room\, musical entertainment and more.  Dress up in costume is optional. \nREGISTER HERE
URL:https://serendipitymeadows.com/event/masquerade-ball-at-dery-mansion/
LOCATION:Dery Mansion\, 520 5th St\, Catasaqua\, Catasaqua\, PA\, 18032\, United States
ATTACH;FMTTYPE=image/jpeg:https://serendipitymeadows.com/wp-content/uploads/2025/10/masquerade-ball-1.jpg
END:VEVENT
END:VCALENDAR