BEGIN:VCALENDAR
VERSION:2.0
PRODID:-//Serendipity - ECPv6.15.20//NONSGML v1.0//EN
CALSCALE:GREGORIAN
METHOD:PUBLISH
X-WR-CALNAME:Serendipity
X-ORIGINAL-URL:https://serendipitymeadows.com
X-WR-CALDESC:Events for Serendipity
REFRESH-INTERVAL;VALUE=DURATION:PT1H
X-Robots-Tag:noindex
X-PUBLISHED-TTL:PT1H
BEGIN:VTIMEZONE
TZID:UTC
BEGIN:STANDARD
TZOFFSETFROM:+0000
TZOFFSETTO:+0000
TZNAME:UTC
DTSTART:20230101T000000
END:STANDARD
END:VTIMEZONE
BEGIN:VEVENT
DTSTART;TZID=UTC:20250802T110000
DTEND;TZID=UTC:20250802T160000
DTSTAMP:20260425T154541
CREATED:20250727T141040Z
LAST-MODIFIED:20250727T193411Z
UID:4705-1754132400-1754150400@serendipitymeadows.com
SUMMARY:Mind\, Body Spirit Expos
DESCRIPTION:Magical & Mystical Vendors \nJoin Debbie Pietruszka at this Expo where she  will be doing Past Life Readings.  Sit with her for a reading to learn how the patterns from your past lives are impacting your current life! \nReiki\, Tarot\, Spiritual and More
URL:https://serendipitymeadows.com/event/mind-body-spirit-expos/
ATTACH;FMTTYPE=image/png:https://serendipitymeadows.com/wp-content/uploads/2025/07/Mind-Body-Spiri-Expo-vendors.png
ORGANIZER;CN="Debbie Pietruszka":MAILTO:serendipitymeadows@gmail.com
END:VEVENT
BEGIN:VEVENT
DTSTART;TZID=UTC:20250720T110000
DTEND;TZID=UTC:20250720T170000
DTSTAMP:20260425T154541
CREATED:20250718T142753Z
LAST-MODIFIED:20250718T155246Z
UID:4699-1753009200-1753030800@serendipitymeadows.com
SUMMARY:Awaken Holistic Expo - Past Life Readings by Debbie
DESCRIPTION:Debbie Pietruszka\, a Past Life Reading Specialist will be providing Past Life Readings at this Expo on Sunday\, July 20\, 2025. \nThese readings are phenomenal in identifying past life patterns which may be impacting a person’s current life in both positive and negative ways.  Sit for a reading with Debbie to gain insight and understanding into how your past lives impact your relationships\, health\, career\, emotions\, abundance or lack of it\, and even more. \nDebbie is from Serendipity Meadows\, A Healing Arts Center\, Quakertown\, PA.  Her website is www.serendipitymeadows.com
URL:https://serendipitymeadows.com/event/awaken-holistic-expo-past-life-readings-by-debbie/
LOCATION:Plymouth Meeting Mall\, 500 W. Germantown Pike\, Plymouth Meeting\, PA\, 19462\, United States
END:VEVENT
BEGIN:VEVENT
DTSTART;TZID=UTC:20250610T100000
DTEND;TZID=UTC:20250610T150000
DTSTAMP:20260425T154541
CREATED:20250524T000943Z
LAST-MODIFIED:20250524T003230Z
UID:4685-1749549600-1749567600@serendipitymeadows.com
SUMMARY:RENEW. RESTORE. RECONNECT.
DESCRIPTION:YOU DESERVE A DAY : A Retreat For Caregivers \nJune 10th 2025 or June 12th 2025 \n10am – 3:00pm \nFor:  Family Caregivers and aspiring non-medical providers \nRelax and refresh in a beautiful\, serene\, retreat setting \nReceive professional caring guides and stress management tips\, \nSmall group sharing and support \nHealthy lunch \nAnd MUCH  MORE! \nThe caregivers in this world are truly unsung heroes. They lovingly and unselfishly give of their time and attention to provide optimal comfort for others.  Quite often\, their needs and self care are secondary to their other responsibilities.  Here at Serendipity Meadows\, we understand that well. Debbie Pietruszka\, has worked for over 30 years in home care and hospice\, interacting with caregivers and also observing their needs.  It is one of her passions to also provide opportunities  of respite for them. She is excited to host this retreat. \nIf you are a caregiver\, we would love to have you join us because you deserve it! \nThanks\, \nDebbie
URL:https://serendipitymeadows.com/event/renew-restore-reconnect/
LOCATION:2175 Angstadt Rd.\, Quakertown\, PA\, 2175 Angstadt Rd.\, Quakertown\, PA\, 18951\, United States
ATTACH;FMTTYPE=image/png:https://serendipitymeadows.com/wp-content/uploads/2025/05/renew_restore_connect.png
ORGANIZER;CN="Debbie Pietruszka":MAILTO:serendipitymeadows@gmail.com
END:VEVENT
BEGIN:VEVENT
DTSTART;TZID=UTC:20240505T150000
DTEND;TZID=UTC:20240505T170000
DTSTAMP:20260425T154541
CREATED:20240402T133819Z
LAST-MODIFIED:20240402T133819Z
UID:4351-1714921200-1714928400@serendipitymeadows.com
SUMMARY:THE WOMEN’S GATHERING
DESCRIPTION:Deb Dewilde from Sacred Soul Messenger will present on The Language of Crystals. She is a Shamanic healer\, mentor\, Reiki Master\, Akashic Record Facilitator\, and channeler.  Deb will share her extensive knowledge about the positive roles crystals can play in all areas of our lives and lead us in a technique to use the crystals to enhance our lives. \nTime: 3:00 to 5:00 PM \nCost:  Free to attend. \nContact Debbie Pietruszka at 484-632-9300[text or call] or by email at serendipitymeadows@gmail.com if you plan to attend. \nWe welcome women of all ages and backgrounds to this group which meets monthly.
URL:https://serendipitymeadows.com/event/the-womens-gathering-2/
LOCATION:2175 Angstadt Rd.\, Quakertown\, PA\, 2175 Angstadt Rd.\, Quakertown\, PA\, 18951\, United States
ATTACH;FMTTYPE=image/jpeg:https://serendipitymeadows.com/wp-content/uploads/2023/02/womens-gathering-1.jpg
ORGANIZER;CN="Debbie Pietruszka":MAILTO:serendipitymeadows@gmail.com
END:VEVENT
BEGIN:VEVENT
DTSTART;TZID=UTC:20240504T090000
DTEND;TZID=UTC:20240504T140000
DTSTAMP:20260425T154541
CREATED:20240402T133256Z
LAST-MODIFIED:20240402T133537Z
UID:4347-1714813200-1714831200@serendipitymeadows.com
SUMMARY:WILD FOOD AND HERB WALK with STEPHEN HOOG
DESCRIPTION:Stephen will show participants how to identify numerous wild plants that can be used for food and medicine.  He has been leading these walks since 1975 and has vast knowledge regarding plant energies\, Permaculture\, and macrobiotics.  The walk will be followed by a vegetarian meal consisting of several dishes that include wild plants. \nParticipants are advised to dress appropriately for the weather and for walking on uneven terrain. \nTime: 9:00 AM to 2:00 PM \nPlace: 2175 Angstadt Rd.\, Quakertown\, PA 18951 \nCost:  $50 per person \nContact Debbie Pietruszka at 484-632-9300 [text or call] or via email at serendipitymeadows@gmail.com to register by May 1st.
URL:https://serendipitymeadows.com/event/wild-food-and-herb-walk-with-stephen-hoog/
LOCATION:2175 Angstadt Rd.\, Quakertown\, PA\, 2175 Angstadt Rd.\, Quakertown\, PA\, 18951\, United States
ATTACH;FMTTYPE=image/jpeg:https://serendipitymeadows.com/wp-content/uploads/2024/04/IMG_2921-rotated.jpg
ORGANIZER;CN="Debbie Pietruszka":MAILTO:serendipitymeadows@gmail.com
END:VEVENT
BEGIN:VEVENT
DTSTART;TZID=UTC:20240414T150000
DTEND;TZID=UTC:20240414T170000
DTSTAMP:20260425T154541
CREATED:20240402T132604Z
LAST-MODIFIED:20240402T133020Z
UID:4344-1713106800-1713114000@serendipitymeadows.com
SUMMARY:THE WOMEN’S GATHERING
DESCRIPTION:Angie Vanim\, Reiki Healer\, Spiritual Coach and owner of Sartori Spiritual Center will present on “The Importance of a Talisman in our Lives.” A talisman is an object that is considered to be protective and to bring good luck. The history of the talisman can be traced to ancient times and they continue to be used today. Angie will educate us on the importance of a talisman and guide attendees in making their own talisman. Materials will be supplied for this activity. \nTime: 3:00 to 5:00 PM     Place:  2175 Angstadt Rd.\, Quakertown\, PA \nCost:  Free to attend. \nContact Debbie Pietruszka 484-632-9300 [text or phone] or by email at serendipitymeadows@gmail.com if you plan to attend. \nWe welcome women of all backgrounds and ages to this group which meets monthly.
URL:https://serendipitymeadows.com/event/the-womens-gathering/
LOCATION:2175 Angstadt Rd.\, Quakertown\, PA\, 2175 Angstadt Rd.\, Quakertown\, PA\, 18951\, United States
ATTACH;FMTTYPE=image/jpeg:https://serendipitymeadows.com/wp-content/uploads/2023/02/womens-gathering-1.jpg
END:VEVENT
BEGIN:VEVENT
DTSTART;TZID=UTC:20240412T190000
DTEND;TZID=UTC:20240412T201500
DTSTAMP:20260425T154541
CREATED:20240315T213748Z
LAST-MODIFIED:20240315T220447Z
UID:4320-1712948400-1712952900@serendipitymeadows.com
SUMMARY:Intro to Past Lives: Do They Influence Our Current Lives?
DESCRIPTION:ONLINE FRIDAY NIGHT FORUM – Intro to Past Lives: Do They Influence Our Current Lives?\nPresented by Debbie Pietruszka\nFriday\, April 12\, 2024 || 7-8:15pm EST\n\nThis presentation is designed for folks who are interested in further exploring various aspects of reincarnation and past lives. Debbie will answer brief questions from attendees to provide them with a significant tidbit of information regarding a past life.\n\n\nAbout the Presenter\nDebbie Pietruszka\, owner and founder of SerendipityMeadows\, Quakertown\, PA is an intuitive\, integrative therapist who blends her decades of experience providing treatments based in traditional and complementary medicine. Her Pas Life Readings have been especially beneficial in providing insight and understanding to her clients as they navigate Life’s challenges.\n\nTickets – Zoom link will be emailed once registered\n• Non-Members- $5/Person\n• Members of Firefly Hollow Online Community Network – Included in Membership\n\nMembers Please Be Aware: ONLINE Friday Night Forum registration through our website is NOT necessary. As a member you can access the Zoom link to join us located in the Online Firefly Hollow Clubhouse in the event\n\n\nFor more details\, CLICK HERE
URL:https://serendipitymeadows.com/event/intro-to-past-lives-do-they-influence-our-current-lives/
ATTACH;FMTTYPE=image/jpeg:https://serendipitymeadows.com/wp-content/uploads/2024/03/friday-night-forum.jpg
ORGANIZER;CN="Firefly Hollow Holistic Wellness Center":MAILTO:serendipitymeadows@gmail.com
END:VEVENT
BEGIN:VEVENT
DTSTART;VALUE=DATE:20240323
DTEND;VALUE=DATE:20240325
DTSTAMP:20260425T154541
CREATED:20240315T014732Z
LAST-MODIFIED:20240315T014732Z
UID:4282-1711152000-1711324799@serendipitymeadows.com
SUMMARY:Awaken Holistic Expo
DESCRIPTION:Awaken Holistic Expo\nMarch 23-24\, 2024\nSat. 11 am-7pm\nSun. 11am-5pm \nHave you ever met someone for the first time and experienced a significant reaction to them\, whether positive or negative? Did you ever consider that perhaps you had at least one past life with them that created this spontaneous reaction from you? \nIf you are curious about any people in your current life possibly being in past life relationships with you\, join Debbie Pietruszka\, a Past Life Reader with over fifteen years of experience\, for this gallery style presentation. \nAttendees are welcome to bring brief questions regarding the connection between folks they currently know and in past lives. \nDebbie
URL:https://serendipitymeadows.com/event/awaken-holistic-expo/
LOCATION:Plymouth Meeting Mall\, 500 W. Germantown Pike\, Plymouth Meeting\, PA\, 19462\, United States
ATTACH;FMTTYPE=image/jpeg:https://serendipitymeadows.com/wp-content/uploads/2024/03/awaken-holistic-expo.jpg
END:VEVENT
END:VCALENDAR