BEGIN:VCALENDAR
VERSION:2.0
PRODID:-//Serendipity - ECPv6.15.20//NONSGML v1.0//EN
CALSCALE:GREGORIAN
METHOD:PUBLISH
X-WR-CALNAME:Serendipity
X-ORIGINAL-URL:https://serendipitymeadows.com
X-WR-CALDESC:Events for Serendipity
REFRESH-INTERVAL;VALUE=DURATION:PT1H
X-Robots-Tag:noindex
X-PUBLISHED-TTL:PT1H
BEGIN:VTIMEZONE
TZID:UTC
BEGIN:STANDARD
TZOFFSETFROM:+0000
TZOFFSETTO:+0000
TZNAME:UTC
DTSTART:20240101T000000
END:STANDARD
END:VTIMEZONE
BEGIN:VEVENT
DTSTART;TZID=UTC:20250720T110000
DTEND;TZID=UTC:20250720T170000
DTSTAMP:20260425T135255
CREATED:20250718T142753Z
LAST-MODIFIED:20250718T155246Z
UID:4699-1753009200-1753030800@serendipitymeadows.com
SUMMARY:Awaken Holistic Expo - Past Life Readings by Debbie
DESCRIPTION:Debbie Pietruszka\, a Past Life Reading Specialist will be providing Past Life Readings at this Expo on Sunday\, July 20\, 2025. \nThese readings are phenomenal in identifying past life patterns which may be impacting a person’s current life in both positive and negative ways.  Sit for a reading with Debbie to gain insight and understanding into how your past lives impact your relationships\, health\, career\, emotions\, abundance or lack of it\, and even more. \nDebbie is from Serendipity Meadows\, A Healing Arts Center\, Quakertown\, PA.  Her website is www.serendipitymeadows.com
URL:https://serendipitymeadows.com/event/awaken-holistic-expo-past-life-readings-by-debbie/
LOCATION:Plymouth Meeting Mall\, 500 W. Germantown Pike\, Plymouth Meeting\, PA\, 19462\, United States
END:VEVENT
BEGIN:VEVENT
DTSTART;TZID=UTC:20250802T110000
DTEND;TZID=UTC:20250802T160000
DTSTAMP:20260425T135255
CREATED:20250727T141040Z
LAST-MODIFIED:20250727T193411Z
UID:4705-1754132400-1754150400@serendipitymeadows.com
SUMMARY:Mind\, Body Spirit Expos
DESCRIPTION:Magical & Mystical Vendors \nJoin Debbie Pietruszka at this Expo where she  will be doing Past Life Readings.  Sit with her for a reading to learn how the patterns from your past lives are impacting your current life! \nReiki\, Tarot\, Spiritual and More
URL:https://serendipitymeadows.com/event/mind-body-spirit-expos/
ATTACH;FMTTYPE=image/png:https://serendipitymeadows.com/wp-content/uploads/2025/07/Mind-Body-Spiri-Expo-vendors.png
ORGANIZER;CN="Debbie Pietruszka":MAILTO:serendipitymeadows@gmail.com
END:VEVENT
BEGIN:VEVENT
DTSTART;TZID=UTC:20251030T150000
DTEND;TZID=UTC:20251030T200000
DTSTAMP:20260425T135255
CREATED:20251015T030540Z
LAST-MODIFIED:20251015T030824Z
UID:4730-1761836400-1761854400@serendipitymeadows.com
SUMMARY:Masquerade Ball at Dery Mansion
DESCRIPTION:Debbie Pietruszka will be part of the celebration of the Halloween spirit on October 30th at the Masquerade Ball in the Dery Mansion in Catasaqua\, PA where she will be doing Past Life Readings and sharing some of her experiences with entity removal on haunted properties for the past ten years. This event is a networking fundraiser for Northeast Pennsylvania Women in Film & Television . There will be amazing beverages and sweet treats for refreshments\, a Fortune Tellers Room\, musical entertainment and more.  Dress up in costume is optional. \nREGISTER HERE
URL:https://serendipitymeadows.com/event/masquerade-ball-at-dery-mansion/
LOCATION:Dery Mansion\, 520 5th St\, Catasaqua\, Catasaqua\, PA\, 18032\, United States
ATTACH;FMTTYPE=image/jpeg:https://serendipitymeadows.com/wp-content/uploads/2025/10/masquerade-ball-1.jpg
END:VEVENT
BEGIN:VEVENT
DTSTART;TZID=UTC:20260307T100000
DTEND;TZID=UTC:20260307T150000
DTSTAMP:20260425T135255
CREATED:20260217T215645Z
LAST-MODIFIED:20260217T221929Z
UID:4820-1772877600-1772895600@serendipitymeadows.com
SUMMARY:Reiki Level 1 - Roundation (includes Attunement)
DESCRIPTION:Reiki is a gentle\, energy-based healing practice for balance\, relaxation & well-being. \nwith Deb Dewilde\, Reiki Master with 21+ Years Experience\nGrounded • Heart-Centered • Transformative \n\nReiki Basics & History\nLevel 1 Attunement\nSelf-Healing Techniques\n\nCost: $222 \nContact Deb to get started: sacredsoulmessenger@gmail.com \n(267) 640-8720 \nFor Brochure details\, Click Here
URL:https://serendipitymeadows.com/event/reiki-level-1-roundation-includes-attunement/
LOCATION:2175 Angstadt Rd.\, Quakertown\, PA\, 2175 Angstadt Rd.\, Quakertown\, PA\, 18951\, United States
ATTACH;FMTTYPE=image/png:https://serendipitymeadows.com/wp-content/uploads/2026/02/Deb-DeWilde-logo.png
ORGANIZER;CN="Debbie Pietruszka":MAILTO:serendipitymeadows@gmail.com
END:VEVENT
BEGIN:VEVENT
DTSTART;TZID=UTC:20260317T130000
DTEND;TZID=UTC:20260317T150000
DTSTAMP:20260425T135255
CREATED:20260325T210725Z
LAST-MODIFIED:20260325T211731Z
UID:4841-1773752400-1773759600@serendipitymeadows.com
SUMMARY:Debbie Pietruszka Podcast 3-16-2026
DESCRIPTION:Debbie Pietruszka was interviewed on a podcast by Liz Brohan called Words of Wisdom From Kick-Ass Women released to YouTube on March 17\, 2026. The title of the podcast is Healing Through Joy and Curiosity. \nDebbie shared how her life was abruptly unrooted when her husband\, Alan\, age 45\, died suddenly from massive pulmonary emboli on November 10\,1993. \nOn that very day at the age of 43\, she only saw two pathways to follow throughout the rest of her life. She had the choice of mourning him for an extensive period of time and being miserable or she could be that free spirit she intuitively knew she had come here to be. \nDebbie invites you to listen to or watch the podcast to discover how her journey through grief by engaging in her natural curiosity for healing and\nrediscovering her inner joy\, opened up a whole new way of being and healing which she blended in her life and began to share with others. \nPodcast here: https://www.kick-ass-women.com/podcast/episode/1cc4243b/healing-through-joy-and-curiosity
URL:https://serendipitymeadows.com/event/debbie-pietruszka-podcast-3-16-2026/
ATTACH;FMTTYPE=image/jpeg:https://serendipitymeadows.com/wp-content/uploads/2026/03/debbie_pietruzka_kaw_episode_thumbnail_2.jpg
END:VEVENT
BEGIN:VEVENT
DTSTART;TZID=UTC:20260411T100000
DTEND;TZID=UTC:20260411T150000
DTSTAMP:20260425T135255
CREATED:20260217T220330Z
LAST-MODIFIED:20260217T221756Z
UID:4823-1775901600-1775919600@serendipitymeadows.com
SUMMARY:Reiki Level 2: Practitioner Expansion (Includes Attunement)
DESCRIPTION:Reiki is a gentle\, energy-based healing practice for balance\, relaxation & well-being. \nwith Deb Dewilde\, Reiki Master with 21+ Years Experience\nGrounded • Heart-Centered • Transformative \n\nReiki Symbols & Distance Healing\nIntuitive Development\nHealing Others\n\nCost: $333 \nContact Deb to get started: sacredsoulmessenger@gmail.com \n(267) 640-8720 \nFor Brochure details\, Click Here
URL:https://serendipitymeadows.com/event/reiki-level-2-practitioner-expansion-includes-attunement/
LOCATION:2175 Angstadt Rd.\, Quakertown\, PA\, 2175 Angstadt Rd.\, Quakertown\, PA\, 18951\, United States
ATTACH;FMTTYPE=image/png:https://serendipitymeadows.com/wp-content/uploads/2026/02/Deb-DeWilde-logo.png
ORGANIZER;CN="Debbie Pietruszka":MAILTO:serendipitymeadows@gmail.com
END:VEVENT
BEGIN:VEVENT
DTSTART;TZID=UTC:20260502T080000
DTEND;TZID=UTC:20260502T170000
DTSTAMP:20260425T135255
CREATED:20260217T221348Z
LAST-MODIFIED:20260217T221639Z
UID:4825-1777708800-1777741200@serendipitymeadows.com
SUMMARY:Reiki Level 3: Master/Teacher Level (Includes Master Attunement)
DESCRIPTION:Reiki is a gentle\, energy-based healing practice for balance\, relaxation & well-being. \nwith Deb Dewilde\, Reiki Master with 21+ Years Experience\nGrounded • Heart-Centered • Transformative \n\nMaster Symbols & Teaching Skills\nAdvanced Energy Work\nSpiritual Integration\n\nCost: $444 \nContact Deb to get started: sacredsoulmessenger@gmail.com \n(267) 640-8720 \nFor Brochure details\, Click Here
URL:https://serendipitymeadows.com/event/reiki-level-3-master-teacher-level-includes-master-attunement/
LOCATION:2175 Angstadt Rd.\, Quakertown\, PA\, 2175 Angstadt Rd.\, Quakertown\, PA\, 18951\, United States
ATTACH;FMTTYPE=image/png:https://serendipitymeadows.com/wp-content/uploads/2026/02/Deb-DeWilde-logo.png
ORGANIZER;CN="Debbie Pietruszka":MAILTO:serendipitymeadows@gmail.com
END:VEVENT
END:VCALENDAR